BEGIN:VCALENDAR
VERSION:2.0
PRODID:-//eventon.com NONSGML v1.0//EN
CALSCALE:GREGORIAN
METHOD:PUBLISH
BEGIN:VEVENT
UID:69e73d1638184
DTSTAMP:20260421T090214Z
DTSTART:20190830T160000Z
DTEND:20190922T140000Z
LOCATION:Schlossgalerie Dorfstrasse 23\,  Belp
SUMMARY:Ausstellung
DESCRIPTION:Drei Mitglieder des Fotoclubs Münsingen stellen in der Schloss
 galerie Belp aus Beatrice Mark Markus Brönnimann Elsbeth Stalder Vernissag
 e: 30. August 2019\,  ab 18 Uhr Flyer &nbsp;\nhttps://www.fotoclubmuensinge
 n.ch/events/ausstellung/
URL:https://www.fotoclubmuensingen.ch/events/ausstellung/
END:VEVENT
END:VCALENDAR