BEGIN:VCALENDAR
VERSION:2.0
PRODID:-//eventon.com NONSGML v1.0//EN
CALSCALE:GREGORIAN
METHOD:PUBLISH
BEGIN:VEVENT
UID:69e6028a2521c
DTSTAMP:20260420T104010Z
DTSTART:20260401T173000Z
DTEND:20260401T200000Z
LOCATION:
SUMMARY:Klubabend
DESCRIPTION:Durch den Wegfall der Photo Münsingen steht der Fotoclub vor d
 er Chance\,  sich neu auszurichten und auf die Bedürfnisse unserer Mitglie
 der\,  also Deine Bedürfnisse\,  einzugehen. Wir werden diesen Abend diese
 m Thema widmen. Mache Dir bitte Gedanken zu folgenden Fragen: Was wird durc
 h den Wegfall der PhM im Klub fehlen? Wie[..]\nhttps://www.fotoclubmuensing
 en.ch/events/klubabend-57/
URL:https://www.fotoclubmuensingen.ch/events/klubabend-57/
END:VEVENT
END:VCALENDAR